BEGIN:VCALENDAR
VERSION:2.0
PRODID:icalendar-ruby
CALSCALE:GREGORIAN
METHOD:PUBLISH
BEGIN:VEVENT
DTSTAMP:20260424T152216Z
UID:29-195019@beitsimcha.org
DTSTART:20260627T143000Z
DTEND:20260627T164000Z
CLASS:PUBLIC
CREATED:20260417T114711
DESCRIPTION:Join us to hear our guest speaker Dr. Daniel Juster.
LAST-MODIFIED:20260417T114711
LOCATION:Beit Simcha Ministry House\, 1111 Grange Road\, Wescosville\, PA 1
 8106
SUMMARY:Dr Daniel & Patty Juster
URL;VALUE=URI:https://beitsimcha.org/events/dr-daniel-patty-juster/2026-06-
 27
ATTACH;FILENAME=Dan-Patty-Juster-Jerusalem.jpg;FMTTYPE=image/jpeg:https://d
 q5pwpg1q8ru0.cloudfront.net/2026/04/17/15/46/22/5d61dd86-326f-4214-b758-c0
 8457558804/Dan-Patty-Juster-Jerusalem.jpg
END:VEVENT
END:VCALENDAR
