BEGIN:VCALENDAR
VERSION:2.0
PRODID:icalendar-ruby
CALSCALE:GREGORIAN
METHOD:PUBLISH
BEGIN:VEVENT
DTSTAMP:20260424T133552Z
UID:76-195015@beitsimcha.org
DTSTART:20260509T180000Z
DTEND:20260509T193000Z
CLASS:PUBLIC
CREATED:20260417T114000
DESCRIPTION:Carmen's family\,  friends and her mischochah at Beit Simcha w
 ill celebrate her memory with remembrances and worship.\n\nA live stream w
 ill be available via a private link. Email info@beitsimcha.com to request 
 it.\n\nIn lieu of flowers\, the family requests that donations be sent to 
 beitsimcha.org/give\, then select Carmen Peters Memorial.
LAST-MODIFIED:20260417T114000
LOCATION:Beit Simcha Ministry House\, 1111 Grange Road\, Wescosville\, PA
SUMMARY:Celebration of Life for Carmen Peters
URL;VALUE=URI:https://beitsimcha.org/events/celebration-of-life-for-carmen-
 peters/2026-05-09
ATTACH;FILENAME=CarmenPeters-CelebrationofLife.jpg;FMTTYPE=image/jpeg:https
 ://dq5pwpg1q8ru0.cloudfront.net/2026/04/17/15/40/00/143fbecd-85d7-49c3-84a
 7-3f4a8b0a57d4/CarmenPeters-CelebrationofLife.jpg
END:VEVENT
END:VCALENDAR
